BEGIN:VCALENDAR
VERSION:2.0
PRODID:-//Internetauftritt des HCF Akkordeon Mannheim Feudenheim Musikverein - ECPv6.15.20//NONSGML v1.0//EN
CALSCALE:GREGORIAN
METHOD:PUBLISH
X-WR-CALNAME:Internetauftritt des HCF Akkordeon Mannheim Feudenheim Musikverein
X-ORIGINAL-URL:https://www.hcf-feudenheim.de
X-WR-CALDESC:Veranstaltungen für Internetauftritt des HCF Akkordeon Mannheim Feudenheim Musikverein
REFRESH-INTERVAL;VALUE=DURATION:PT1H
X-Robots-Tag:noindex
X-PUBLISHED-TTL:PT1H
BEGIN:VTIMEZONE
TZID:Europe/Berlin
BEGIN:DAYLIGHT
TZOFFSETFROM:+0100
TZOFFSETTO:+0200
TZNAME:CEST
DTSTART:20150329T010000
END:DAYLIGHT
BEGIN:STANDARD
TZOFFSETFROM:+0200
TZOFFSETTO:+0100
TZNAME:CET
DTSTART:20151025T010000
END:STANDARD
BEGIN:DAYLIGHT
TZOFFSETFROM:+0100
TZOFFSETTO:+0200
TZNAME:CEST
DTSTART:20160327T010000
END:DAYLIGHT
BEGIN:STANDARD
TZOFFSETFROM:+0200
TZOFFSETTO:+0100
TZNAME:CET
DTSTART:20161030T010000
END:STANDARD
BEGIN:DAYLIGHT
TZOFFSETFROM:+0100
TZOFFSETTO:+0200
TZNAME:CEST
DTSTART:20170326T010000
END:DAYLIGHT
BEGIN:STANDARD
TZOFFSETFROM:+0200
TZOFFSETTO:+0100
TZNAME:CET
DTSTART:20171029T010000
END:STANDARD
BEGIN:DAYLIGHT
TZOFFSETFROM:+0100
TZOFFSETTO:+0200
TZNAME:CEST
DTSTART:20180325T010000
END:DAYLIGHT
BEGIN:STANDARD
TZOFFSETFROM:+0200
TZOFFSETTO:+0100
TZNAME:CET
DTSTART:20181028T010000
END:STANDARD
BEGIN:DAYLIGHT
TZOFFSETFROM:+0100
TZOFFSETTO:+0200
TZNAME:CEST
DTSTART:20190331T010000
END:DAYLIGHT
BEGIN:STANDARD
TZOFFSETFROM:+0200
TZOFFSETTO:+0100
TZNAME:CET
DTSTART:20191027T010000
END:STANDARD
BEGIN:DAYLIGHT
TZOFFSETFROM:+0100
TZOFFSETTO:+0200
TZNAME:CEST
DTSTART:20200329T010000
END:DAYLIGHT
BEGIN:STANDARD
TZOFFSETFROM:+0200
TZOFFSETTO:+0100
TZNAME:CET
DTSTART:20201025T010000
END:STANDARD
BEGIN:DAYLIGHT
TZOFFSETFROM:+0100
TZOFFSETTO:+0200
TZNAME:CEST
DTSTART:20210328T010000
END:DAYLIGHT
BEGIN:STANDARD
TZOFFSETFROM:+0200
TZOFFSETTO:+0100
TZNAME:CET
DTSTART:20211031T010000
END:STANDARD
BEGIN:DAYLIGHT
TZOFFSETFROM:+0100
TZOFFSETTO:+0200
TZNAME:CEST
DTSTART:20220327T010000
END:DAYLIGHT
BEGIN:STANDARD
TZOFFSETFROM:+0200
TZOFFSETTO:+0100
TZNAME:CET
DTSTART:20221030T010000
END:STANDARD
BEGIN:DAYLIGHT
TZOFFSETFROM:+0100
TZOFFSETTO:+0200
TZNAME:CEST
DTSTART:20230326T010000
END:DAYLIGHT
BEGIN:STANDARD
TZOFFSETFROM:+0200
TZOFFSETTO:+0100
TZNAME:CET
DTSTART:20231029T010000
END:STANDARD
BEGIN:DAYLIGHT
TZOFFSETFROM:+0100
TZOFFSETTO:+0200
TZNAME:CEST
DTSTART:20240331T010000
END:DAYLIGHT
BEGIN:STANDARD
TZOFFSETFROM:+0200
TZOFFSETTO:+0100
TZNAME:CET
DTSTART:20241027T010000
END:STANDARD
BEGIN:DAYLIGHT
TZOFFSETFROM:+0100
TZOFFSETTO:+0200
TZNAME:CEST
DTSTART:20250330T010000
END:DAYLIGHT
BEGIN:STANDARD
TZOFFSETFROM:+0200
TZOFFSETTO:+0100
TZNAME:CET
DTSTART:20251026T010000
END:STANDARD
BEGIN:DAYLIGHT
TZOFFSETFROM:+0100
TZOFFSETTO:+0200
TZNAME:CEST
DTSTART:20260329T010000
END:DAYLIGHT
BEGIN:STANDARD
TZOFFSETFROM:+0200
TZOFFSETTO:+0100
TZNAME:CET
DTSTART:20261025T010000
END:STANDARD
BEGIN:DAYLIGHT
TZOFFSETFROM:+0100
TZOFFSETTO:+0200
TZNAME:CEST
DTSTART:20270328T010000
END:DAYLIGHT
BEGIN:STANDARD
TZOFFSETFROM:+0200
TZOFFSETTO:+0100
TZNAME:CET
DTSTART:20271031T010000
END:STANDARD
END:VTIMEZONE
BEGIN:VEVENT
DTSTART;VALUE=DATE:20260314
DTEND;VALUE=DATE:20260316
DTSTAMP:20260424T134734
CREATED:20251025T153555Z
LAST-MODIFIED:20251025T153555Z
UID:2496-1773446400-1773619199@www.hcf-feudenheim.de
SUMMARY:Probenwochenende 2026
DESCRIPTION:Unser Probenwochenende von Orchester und Ensemble + DaCapos
URL:https://www.hcf-feudenheim.de/event/probenwochenende-2026/
END:VEVENT
BEGIN:VEVENT
DTSTART;TZID=Europe/Berlin:20260301T110000
DTEND;TZID=Europe/Berlin:20260301T150000
DTSTAMP:20260424T134734
CREATED:20251025T153409Z
LAST-MODIFIED:20260212T180848Z
UID:2493-1772362800-1772377200@www.hcf-feudenheim.de
SUMMARY:Tag des Akkordeons
DESCRIPTION:Ein perfekter Start ins Jahr des Akkordeons HC-Feudenheim und Akkordeon im Quadrat laden am 1. März 2026 zum Tag des Akkordeons ein Das Akkordeon ist 2026 das Instrument des Jahres – die perfekte Gelegenheit\, das Tastenwunder neu oder noch besser kennenzulernen. Am 1. März laden die Vereine Akkordeon im Quadrat und HC-Feudenheim deshalb zum Tag des Akkordeons in die Kulturhalle in Mannheim-Feudenheim ein.\nDort gibt es von 11 bis 15 Uhr viele Möglichkeiten zum Ausprobieren\, Zuhören oder einfach bei Kaffee und Kuchen ins Gespräch kommen. Los geht’s um 11 Uhr mit einer musikalischen Eröffnung und einem anschließenden Body-Percussion-Warm-Up. Von 13-14.30 Uhr können Sie sich in verschiedenen Workshops am Akkordeon versuchen – auch ohne Vorkenntnisse und ohne jede Altersbeschränkung. Zwischendurch gibt es die Möglichkeit\, noch mehr Musik zu hören\, Instrumente zu testen\, am Gewinnspiel teilzunehmen oder Ihr eigenes Akkordeon zur Reparatur mitzubringen.\nOb Akkordeonfan oder einfach neugierig: Wir versorgen Sie gerne mit Kaffee\, Kuchen\, Sekt und Herzhaften und natürlich mit Informationen und Aktionen rund ums Akkordeon. Beide Vereine bieten die Möglichkeit\, Akkordeon zu lernen und in verschiedenen Ensembles und Orchestern gemeinsam auf die Bühne zu bringen. Denn eins sei verraten: Das Instrument des Jahres ist vielseitig\, immer wieder überraschend und bringt Menschen zusammen.\nWir freuen uns auf Ihren Besuch!\n 
URL:https://www.hcf-feudenheim.de/event/tag-des-akkordeons/
LOCATION:Kulturhalle Feudenheim\, Spessartstraße 24-28\, Mannheim\, 68259\, Germany
END:VEVENT
BEGIN:VEVENT
DTSTART;TZID=Europe/Berlin:20251122T150000
DTEND;TZID=Europe/Berlin:20251122T160000
DTSTAMP:20260424T134734
CREATED:20250914T080133Z
LAST-MODIFIED:20250914T080133Z
UID:2344-1763823600-1763827200@www.hcf-feudenheim.de
SUMMARY:Konzert im Fliednerhaus
DESCRIPTION:Die DaCapos spielen im Fliednerhaus.
URL:https://www.hcf-feudenheim.de/event/konzert-im-fliednerhaus/
END:VEVENT
BEGIN:VEVENT
DTSTART;TZID=Europe/Berlin:20251019T150000
DTEND;TZID=Europe/Berlin:20251019T160000
DTSTAMP:20260424T134734
CREATED:20250914T075439Z
LAST-MODIFIED:20251004T114004Z
UID:2341-1760886000-1760889600@www.hcf-feudenheim.de
SUMMARY:Kerweauftritt 2025
DESCRIPTION:Der HCF spielt am 19.10.25 um 15:00 auf Bühne 3 ( Badischer Hof ) \n 
URL:https://www.hcf-feudenheim.de/event/kerweauftritt-2025/
END:VEVENT
BEGIN:VEVENT
DTSTART;TZID=Europe/Berlin:20250928T080000
DTEND;TZID=Europe/Berlin:20250928T170000
DTSTAMP:20260424T134734
CREATED:20250915T132444Z
LAST-MODIFIED:20250915T132444Z
UID:2346-1759046400-1759078800@www.hcf-feudenheim.de
SUMMARY:HCF Wanderung 2025
DESCRIPTION:Hier die Einladung und Anmeldung zur Wanderung \nEinladung HCF-Wanderung 28.09.2025 Anmeldung_HCF_Wanderausflug_Formular
URL:https://www.hcf-feudenheim.de/event/hcf-wanderung_2025/
END:VEVENT
BEGIN:VEVENT
DTSTART;TZID=Europe/Berlin:20250406T160000
DTEND;TZID=Europe/Berlin:20250406T183000
DTSTAMP:20260424T134734
CREATED:20240517T174523Z
LAST-MODIFIED:20240609T064425Z
UID:2118-1743955200-1743964200@www.hcf-feudenheim.de
SUMMARY:Konzert 2025
DESCRIPTION:Auf den britischen Inseln
URL:https://www.hcf-feudenheim.de/event/konzert-2025/
LOCATION:Kulturhalle Feudenheim\, Spessartstraße 24-28\, Mannheim\, 68259\, Germany
END:VEVENT
BEGIN:VEVENT
DTSTART;TZID=Europe/Berlin:20241207T180000
DTEND;TZID=Europe/Berlin:20241207T200000
DTSTAMP:20260424T134734
CREATED:20240517T174616Z
LAST-MODIFIED:20240517T174616Z
UID:2120-1733594400-1733601600@www.hcf-feudenheim.de
SUMMARY:Weihnachstfeier
DESCRIPTION:
URL:https://www.hcf-feudenheim.de/event/weihnachstfeier/
END:VEVENT
BEGIN:VEVENT
DTSTART;TZID=Europe/Berlin:20241020T130000
DTEND;TZID=Europe/Berlin:20241020T140000
DTSTAMP:20260424T134734
CREATED:20240517T174425Z
LAST-MODIFIED:20240609T063723Z
UID:2116-1729429200-1729432800@www.hcf-feudenheim.de
SUMMARY:Kerweauftritt
DESCRIPTION:Bühne am Badischen Hof
URL:https://www.hcf-feudenheim.de/event/kerweauftritt/
END:VEVENT
BEGIN:VEVENT
DTSTART;TZID=Europe/Berlin:20240428T160000
DTEND;TZID=Europe/Berlin:20240428T190000
DTSTAMP:20260424T134734
CREATED:20230415T140532Z
LAST-MODIFIED:20240303T142112Z
UID:1812-1714320000-1714330800@www.hcf-feudenheim.de
SUMMARY:Konzert
DESCRIPTION:
URL:https://www.hcf-feudenheim.de/event/konzert-2/
LOCATION:Kulturhalle Feudenheim\, Spessartstraße 24-28\, Mannheim\, 68259\, Germany
END:VEVENT
BEGIN:VEVENT
DTSTART;VALUE=DATE:20240101
DTEND;VALUE=DATE:20240102
DTSTAMP:20260424T134734
CREATED:20240609T065258Z
LAST-MODIFIED:20240609T065756Z
UID:2137-1704067200-1704153599@www.hcf-feudenheim.de
SUMMARY:Veranstaltungskalender
DESCRIPTION:Hier sind alle Veranstaltungen des HCFeudenheim zu finden
URL:https://www.hcf-feudenheim.de/event/veranstaltungskalender/
END:VEVENT
BEGIN:VEVENT
DTSTART;TZID=Europe/Berlin:20231202T180000
DTEND;TZID=Europe/Berlin:20231202T200000
DTSTAMP:20260424T134734
CREATED:20230415T140444Z
LAST-MODIFIED:20240609T065119Z
UID:1810-1701540000-1701547200@www.hcf-feudenheim.de
SUMMARY:Weihnachtsfeier
DESCRIPTION:Einladung_Weihnachtsfeier_2023 \n  \nLiebe HCF-Mitglieder\,\nschon wieder nähert sich ein Jahr dem Ende und es ist höchste Zeit\, wieder einmal zusammen zu kommen und zu feiern!\nWir freuen uns\, euch zur Weihnachtsfeier am 02. Dezember 2023 um 18 Uhr in die Kulturhalle (Spessartstraße 24-28\, MA-Feudenheim) einzuladen. Diesmal ohne Konzert\, aber natürlich nicht ohne Musik. Freut euch wie wir darauf\, alte (und neue) Bekannte wieder zu sehen\, euch zu unterhalten\, gemeinsam Weihnachtslieder zu singen und unserer Musik zu lauschen. Für Speis‘ und Trank ist wie immer gesorgt.\nAuch Familien und Freunde sind natürlich herzlich eingeladen.
URL:https://www.hcf-feudenheim.de/event/weihnachtsfeier-2/
END:VEVENT
BEGIN:VEVENT
DTSTART;TZID=Europe/Berlin:20230722T100000
DTEND;TZID=Europe/Berlin:20230722T104000
DTSTAMP:20260424T134734
CREATED:20230704T173557Z
LAST-MODIFIED:20230708T142155Z
UID:1885-1690020000-1690022400@www.hcf-feudenheim.de
SUMMARY:Auftritt auf der BUGA
DESCRIPTION:  \nDas Orchester und das Ensemble sind auf der BUGA Hauptbühne um 10:00 zu hören. Wir freuen uns auf viele Zuhörer. \nhttps://www.buga23.de/veranstaltungskalender/tag-des-akkordeons/ \n 
URL:https://www.hcf-feudenheim.de/event/auftritt-auf-der-buga/
END:VEVENT
BEGIN:VEVENT
DTSTART;TZID=Europe/Berlin:20230716T123000
DTEND;TZID=Europe/Berlin:20230716T133000
DTSTAMP:20260424T134734
CREATED:20230701T170805Z
LAST-MODIFIED:20230701T171229Z
UID:1881-1689510600-1689514200@www.hcf-feudenheim.de
SUMMARY:Auftritt Feudenheimer Brunnenfest
DESCRIPTION:Wie Spielen auf dem Feudenheimer Brunnenfest nach dem Gottesdienst
URL:https://www.hcf-feudenheim.de/event/auftritt-feudenheimer-brunnenfest/
END:VEVENT
BEGIN:VEVENT
DTSTART;TZID=Europe/Berlin:20230401T193000
DTEND;TZID=Europe/Berlin:20230401T210000
DTSTAMP:20260424T134734
CREATED:20221227T174907Z
LAST-MODIFIED:20230221T182908Z
UID:1767-1680377400-1680382800@www.hcf-feudenheim.de
SUMMARY:Frühjahres Konzert
DESCRIPTION:
URL:https://www.hcf-feudenheim.de/event/fruehjahres-konzert/
LOCATION:Kulturhalle Feudenheim\, Spessartstraße 24-28\, Mannheim\, 68259\, Germany
END:VEVENT
BEGIN:VEVENT
DTSTART;TZID=Europe/Berlin:20221203T170000
DTEND;TZID=Europe/Berlin:20221203T190000
DTSTAMP:20260424T134734
CREATED:20220506T184056Z
LAST-MODIFIED:20221103T112300Z
UID:1511-1670086800-1670094000@www.hcf-feudenheim.de
SUMMARY:Kleine Abendmusik
DESCRIPTION:
URL:https://www.hcf-feudenheim.de/event/kleine-abendmusik-3/
LOCATION:Kulturhalle Feudenheim\, Spessartstraße 24-28\, Mannheim\, 68259\, Germany
END:VEVENT
BEGIN:VEVENT
DTSTART;TZID=Europe/Berlin:20220501T110000
DTEND;TZID=Europe/Berlin:20220501T130000
DTSTAMP:20260424T134734
CREATED:20220323T162123Z
LAST-MODIFIED:20251004T114132Z
UID:1499-1651402800-1651410000@www.hcf-feudenheim.de
SUMMARY:Klangwellen
DESCRIPTION:Ein Konzert über das Lebenselexier!
URL:https://www.hcf-feudenheim.de/event/klangwellen/
LOCATION:Kulturhalle Feudenheim\, Spessartstraße 24-28\, Mannheim\, 68259\, Germany
END:VEVENT
BEGIN:VEVENT
DTSTART;TZID=Europe/Berlin:20210711T110000
DTEND;TZID=Europe/Berlin:20210711T123000
DTSTAMP:20260424T134734
CREATED:20210621T195709Z
LAST-MODIFIED:20210621T195709Z
UID:1426-1626001200-1626006600@www.hcf-feudenheim.de
SUMMARY:Konzert Matinee
DESCRIPTION:
URL:https://www.hcf-feudenheim.de/event/konzert-matinee/
LOCATION:Kulturhalle Feudenheim\, Spessartstraße 24-28\, Mannheim\, 68259\, Germany
END:VEVENT
BEGIN:VEVENT
DTSTART;TZID=Europe/Berlin:20201121T190000
DTEND;TZID=Europe/Berlin:20201121T200000
DTSTAMP:20260424T134734
CREATED:20200920T165105Z
LAST-MODIFIED:20200920T165146Z
UID:1379-1605985200-1605988800@www.hcf-feudenheim.de
SUMMARY:Akkordeonkonzert
DESCRIPTION:Afrika Konzert
URL:https://www.hcf-feudenheim.de/event/afrikakonzert2020/
LOCATION:Kulturhalle Feudenheim\, Spessartstraße 24-28\, Mannheim\, 68259\, Germany
END:VEVENT
BEGIN:VEVENT
DTSTART;TZID=Europe/Berlin:20191207T170000
DTEND;TZID=Europe/Berlin:20191207T190000
DTSTAMP:20260424T134734
CREATED:20190518T183352Z
LAST-MODIFIED:20190518T183352Z
UID:1294-1575738000-1575745200@www.hcf-feudenheim.de
SUMMARY:kleine Abendmusik
DESCRIPTION:
URL:https://www.hcf-feudenheim.de/event/kleine-abendmusik-2/
LOCATION:Kulturhalle Feudenheim\, Spessartstraße 24-28\, Mannheim\, 68259\, Germany
END:VEVENT
BEGIN:VEVENT
DTSTART;TZID=Europe/Berlin:20190511T193000
DTEND;TZID=Europe/Berlin:20190511T220000
DTSTAMP:20260424T134734
CREATED:20181202T083937Z
LAST-MODIFIED:20190502T164434Z
UID:1158-1557603000-1557612000@www.hcf-feudenheim.de
SUMMARY:Konzert 2019
DESCRIPTION:Das Konzertprogramm als pdf Datei
URL:https://www.hcf-feudenheim.de/event/konzert-2019/
LOCATION:Kulturhalle Feudenheim\, Spessartstraße 24-28\, Mannheim\, 68259\, Germany
END:VEVENT
BEGIN:VEVENT
DTSTART;TZID=Europe/Berlin:20190316T080000
DTEND;TZID=Europe/Berlin:20190317T170000
DTSTAMP:20260424T134734
CREATED:20181125T150412Z
LAST-MODIFIED:20241108T102710Z
UID:1151-1552723200-1552842000@www.hcf-feudenheim.de
SUMMARY:Probenwochenende 2019
DESCRIPTION:
URL:https://www.hcf-feudenheim.de/event/probenwochenende-2019/
END:VEVENT
BEGIN:VEVENT
DTSTART;TZID=Europe/Berlin:20181124T170000
DTEND;TZID=Europe/Berlin:20181124T183000
DTSTAMP:20260424T134734
CREATED:20181103T155948Z
LAST-MODIFIED:20181120T182800Z
UID:1100-1543078800-1543084200@www.hcf-feudenheim.de
SUMMARY:Eine kleine Abendmusik
DESCRIPTION:
URL:https://www.hcf-feudenheim.de/event/eine-kleine-abendmusik/
LOCATION:Johanneskirche\, Hauptstraße 37\, Mannheim Feudenheim\, 68259\, Deutschland
END:VEVENT
BEGIN:VEVENT
DTSTART;TZID=Europe/Berlin:20180421T193000
DTEND;TZID=Europe/Berlin:20180421T210000
DTSTAMP:20260424T134734
CREATED:20171021T073034Z
LAST-MODIFIED:20171021T073034Z
UID:935-1524339000-1524344400@www.hcf-feudenheim.de
SUMMARY:Jahreskonzert 2018
DESCRIPTION:
URL:https://www.hcf-feudenheim.de/event/jahreskonzert-2018/
LOCATION:Kulturhalle Feudenheim\, Spessartstraße 24-28\, Mannheim\, 68259\, Germany
END:VEVENT
BEGIN:VEVENT
DTSTART;TZID=Europe/Berlin:20171125T170000
DTEND;TZID=Europe/Berlin:20171125T180000
DTSTAMP:20260424T134734
CREATED:20170806T074008Z
LAST-MODIFIED:20171021T072726Z
UID:925-1511629200-1511632800@www.hcf-feudenheim.de
SUMMARY:Kleine Abendmusik
DESCRIPTION:
URL:https://www.hcf-feudenheim.de/event/kleine-abendmusik/
LOCATION:Epiphaniaskirche\, Andreas-Hofer-Straße 39\, Mannheim\, 68259\, Germany
END:VEVENT
BEGIN:VEVENT
DTSTART;TZID=Europe/Berlin:20170401T193000
DTEND;TZID=Europe/Berlin:20170401T220000
DTSTAMP:20260424T134734
CREATED:20160325T194341Z
LAST-MODIFIED:20170401T133028Z
UID:347-1491075000-1491084000@www.hcf-feudenheim.de
SUMMARY:Akkordeon-Konzert
DESCRIPTION:Tauchen Sie ein in die Welt von Glanz und Glamour. Fühlen Sie sich wie ein Star auf dem roten Teppich. Unser Fotograf hält diesen großen Moment für die Ewigkeit fest.\nIm Konzertsaal erwarten Sie Meisterwerke der Filmgeschichte. Dort begegnen Sie bekannten Filmhelden\, wie Forrest Gump\, Mogli\, Yoda\, Wickie\, Frodo und vielen mehr.\nBegleiten Sie uns auf eine musikalische Reise durch die Welt des Films.“
URL:https://www.hcf-feudenheim.de/event/jahreskonzert/
LOCATION:Kulturhalle Feudenheim\, Spessartstraße 24-28\, Mannheim\, 68259\, Germany
END:VEVENT
BEGIN:VEVENT
DTSTART;TZID=Europe/Berlin:20170310T180000
DTEND;TZID=Europe/Berlin:20170312T150000
DTSTAMP:20260424T134734
CREATED:20160711T100239Z
LAST-MODIFIED:20241108T102829Z
UID:738-1489168800-1489330800@www.hcf-feudenheim.de
SUMMARY:Jugend-Probenwochenende
DESCRIPTION:
URL:https://www.hcf-feudenheim.de/event/jugend-probenwochenende/
LOCATION:JuHe Altleiningen
END:VEVENT
BEGIN:VEVENT
DTSTART;VALUE=DATE:20170218
DTEND;VALUE=DATE:20170220
DTSTAMP:20260424T134734
CREATED:20160516T145508Z
LAST-MODIFIED:20160516T145508Z
UID:721-1487376000-1487548799@www.hcf-feudenheim.de
SUMMARY:Probenwochenende
DESCRIPTION:
URL:https://www.hcf-feudenheim.de/event/probenwochenende/
LOCATION:Friedrichsfeld
END:VEVENT
BEGIN:VEVENT
DTSTART;TZID=Europe/Berlin:20161126T183000
DTEND;TZID=Europe/Berlin:20161126T210000
DTSTAMP:20260424T134734
CREATED:20160404T163404Z
LAST-MODIFIED:20240810T152245Z
UID:487-1480185000-1480194000@www.hcf-feudenheim.de
SUMMARY:HCF Weihnachtsfeier
DESCRIPTION:
URL:https://www.hcf-feudenheim.de/event/hcf-weihnachtsfeier/
LOCATION:Epiphanias Gemeindehaus\, Andreas-Hofer-Straße 39\, Mannheim\, 68259\, Germany
END:VEVENT
BEGIN:VEVENT
DTSTART;TZID=Europe/Berlin:20161126T170000
DTEND;TZID=Europe/Berlin:20161126T180000
DTSTAMP:20260424T134734
CREATED:20160111T074521Z
LAST-MODIFIED:20160404T163116Z
UID:121-1480179600-1480183200@www.hcf-feudenheim.de
SUMMARY:Kleine Abendmusik
DESCRIPTION:
URL:https://www.hcf-feudenheim.de/event/weihnachtsfeier/
LOCATION:Epiphaniaskirche\, Andreas-Hofer-Straße 39\, Mannheim\, 68259\, Germany
END:VEVENT
BEGIN:VEVENT
DTSTART;TZID=Europe/Berlin:20160716T180000
DTEND;TZID=Europe/Berlin:20160717T010000
DTSTAMP:20260424T134734
CREATED:20160511T135722Z
LAST-MODIFIED:20160511T135722Z
UID:719-1468692000-1468717200@www.hcf-feudenheim.de
SUMMARY:HCF Grillfest
DESCRIPTION:Unser jährliches Grillfest für alle Mitglieder
URL:https://www.hcf-feudenheim.de/event/hcf-grillfest/
END:VEVENT
END:VCALENDAR